BEGIN:VCALENDAR
VERSION:2.0
PRODID:-//München Tamil Sangam e.V. - ECPv6.15.20//NONSGML v1.0//EN
CALSCALE:GREGORIAN
METHOD:PUBLISH
X-ORIGINAL-URL:https://muenchentamilsangam.org
X-WR-CALDESC:Events for München Tamil Sangam e.V.
REFRESH-INTERVAL;VALUE=DURATION:PT1H
X-Robots-Tag:noindex
X-PUBLISHED-TTL:PT1H
BEGIN:VTIMEZONE
TZID:Europe/Berlin
BEGIN:DAYLIGHT
TZOFFSETFROM:+0100
TZOFFSETTO:+0200
TZNAME:CEST
DTSTART:20240331T010000
END:DAYLIGHT
BEGIN:STANDARD
TZOFFSETFROM:+0200
TZOFFSETTO:+0100
TZNAME:CET
DTSTART:20241027T010000
END:STANDARD
BEGIN:DAYLIGHT
TZOFFSETFROM:+0100
TZOFFSETTO:+0200
TZNAME:CEST
DTSTART:20250330T010000
END:DAYLIGHT
BEGIN:STANDARD
TZOFFSETFROM:+0200
TZOFFSETTO:+0100
TZNAME:CET
DTSTART:20251026T010000
END:STANDARD
BEGIN:DAYLIGHT
TZOFFSETFROM:+0100
TZOFFSETTO:+0200
TZNAME:CEST
DTSTART:20260329T010000
END:DAYLIGHT
BEGIN:STANDARD
TZOFFSETFROM:+0200
TZOFFSETTO:+0100
TZNAME:CET
DTSTART:20261025T010000
END:STANDARD
END:VTIMEZONE
BEGIN:VEVENT
DTSTART;TZID=Europe/Berlin:20250125T100000
DTEND;TZID=Europe/Berlin:20250125T190000
DTSTAMP:20260419T163832
CREATED:20250110T163831Z
LAST-MODIFIED:20250110T163831Z
UID:15815-1737799200-1737831600@muenchentamilsangam.org
SUMMARY:Pongalo Pongal 2025
DESCRIPTION:Pongalo Pongal 2025\nPongalo Pongal 2025 event organized by München Tamil Sangam e.V. is a vibrant cultural celebration marking the traditional Tamil harvest festival\, Pongal. It typically includes a variety of cultural programs such as traditional Tamil music\, dance performances (like Bharatanatyam)\, and folk arts that reflect Tamil heritage. Attendees often witness rituals like preparing Pongal (a sweet rice dish) to honor the Sun God for a bountiful harvest. \nThe event serves as a platform for the Tamil diaspora in Germany to come together\, share their cultural identity\, and introduce Tamil traditions to the local community. It also features activities such as kolam (rangoli) competitions\, Tamil poetry recitals\, and traditional games\, creating a festive and inclusive atmosphere for all.\nWe invite everyone to join us in this celebration\, to be a part of this beautiful tapestry of culture and joy. Let’s make memories that will be cherished for years to come.
URL:https://muenchentamilsangam.org/event/pongalopongal2025/
LOCATION:Mittelschule an der Cincinnatistraße\, Cincinnatistraße 63\, Munich\, 81549\, Germany
CATEGORIES:Events
ATTACH;FMTTYPE=image/jpeg:https://muenchentamilsangam.org/wp-content/uploads/2024/10/WhatsApp-Image-2025-01-08-at-09.45.45.jpeg
ORGANIZER;CN="M%C3%BCnchen Tamil Sangam e.V.":MAILTO:muenchentamilsangam@gmail.com
END:VEVENT
END:VCALENDAR