BEGIN:VCALENDAR
VERSION:2.0
PRODID:-//München Tamil Sangam e.V. - ECPv6.15.20//NONSGML v1.0//EN
CALSCALE:GREGORIAN
METHOD:PUBLISH
X-ORIGINAL-URL:https://muenchentamilsangam.org
X-WR-CALDESC:Events for München Tamil Sangam e.V.
REFRESH-INTERVAL;VALUE=DURATION:PT1H
X-Robots-Tag:noindex
X-PUBLISHED-TTL:PT1H
BEGIN:VTIMEZONE
TZID:Europe/Berlin
BEGIN:DAYLIGHT
TZOFFSETFROM:+0100
TZOFFSETTO:+0200
TZNAME:CEST
DTSTART:20230326T010000
END:DAYLIGHT
BEGIN:STANDARD
TZOFFSETFROM:+0200
TZOFFSETTO:+0100
TZNAME:CET
DTSTART:20231029T010000
END:STANDARD
BEGIN:DAYLIGHT
TZOFFSETFROM:+0100
TZOFFSETTO:+0200
TZNAME:CEST
DTSTART:20240331T010000
END:DAYLIGHT
BEGIN:STANDARD
TZOFFSETFROM:+0200
TZOFFSETTO:+0100
TZNAME:CET
DTSTART:20241027T010000
END:STANDARD
BEGIN:DAYLIGHT
TZOFFSETFROM:+0100
TZOFFSETTO:+0200
TZNAME:CEST
DTSTART:20250330T010000
END:DAYLIGHT
BEGIN:STANDARD
TZOFFSETFROM:+0200
TZOFFSETTO:+0100
TZNAME:CET
DTSTART:20251026T010000
END:STANDARD
END:VTIMEZONE
BEGIN:VEVENT
DTSTART;TZID=Europe/Berlin:20241117T133000
DTEND;TZID=Europe/Berlin:20241117T133000
DTSTAMP:20260419T205012
CREATED:20241112T180643Z
LAST-MODIFIED:20241112T180908Z
UID:15729-1731850200-1731850200@muenchentamilsangam.org
SUMMARY:MTS Tamil Students Meetup 2024
DESCRIPTION:MTS Tamil Students Meetup 2024\nJoin us for the Munich Tamil Student’s Meetup\, an engaging networking event organized by München Tamil Sangam (MTS)\, designed exclusively for Tamil students and alumni in Munich! Whether you’re new to the city or a seasoned professional\, this meetup offers a unique chance to connect\, learn\, and build a supportive Tamil community. \nEvent Highlights: \n📅 Date: 17.11.2024\n⏰ Time: 01:30 PM\n📍 Location: Nachbarschaftswerk\, Heinrich-Böll-Straße 69\, 81829 München \nThis meetup will feature: \nNetworking and Mentorship: Connect with fellow students and alumni\, exchange insights on career paths\, and get guidance from those who’ve walked the same journey.\nFun Activities: Enjoy music\, games\, and casual chit-chat in a relaxed setting. Meet people who share your interests and values while unwinding together. \nWe look forward to welcoming you to an unforgettable event filled with fun\, networking\, and opportunities.
URL:https://muenchentamilsangam.org/event/mts-tamil-students-meetup-2024/
LOCATION:Nachbarschaftswerk wagnis e.V.\, Heinrich-Böll-Straße 69\, München\, Bayern\, 81829\, Germany
CATEGORIES:Events
ATTACH;FMTTYPE=image/png:https://muenchentamilsangam.org/wp-content/uploads/2024/11/Website-image.png
ORGANIZER;CN="M%C3%BCnchen Tamil Sangam e.V.":MAILTO:muenchentamilsangam@gmail.com
END:VEVENT
END:VCALENDAR