BEGIN:VCALENDAR
VERSION:2.0
PRODID:-//München Tamil Sangam e.V. - ECPv6.15.20//NONSGML v1.0//EN
CALSCALE:GREGORIAN
METHOD:PUBLISH
X-WR-CALNAME:München Tamil Sangam e.V.
X-ORIGINAL-URL:https://muenchentamilsangam.org
X-WR-CALDESC:Events for München Tamil Sangam e.V.
REFRESH-INTERVAL;VALUE=DURATION:PT1H
X-Robots-Tag:noindex
X-PUBLISHED-TTL:PT1H
BEGIN:VTIMEZONE
TZID:Europe/Berlin
BEGIN:DAYLIGHT
TZOFFSETFROM:+0100
TZOFFSETTO:+0200
TZNAME:CEST
DTSTART:20230326T010000
END:DAYLIGHT
BEGIN:STANDARD
TZOFFSETFROM:+0200
TZOFFSETTO:+0100
TZNAME:CET
DTSTART:20231029T010000
END:STANDARD
BEGIN:DAYLIGHT
TZOFFSETFROM:+0100
TZOFFSETTO:+0200
TZNAME:CEST
DTSTART:20240331T010000
END:DAYLIGHT
BEGIN:STANDARD
TZOFFSETFROM:+0200
TZOFFSETTO:+0100
TZNAME:CET
DTSTART:20241027T010000
END:STANDARD
BEGIN:DAYLIGHT
TZOFFSETFROM:+0100
TZOFFSETTO:+0200
TZNAME:CEST
DTSTART:20250330T010000
END:DAYLIGHT
BEGIN:STANDARD
TZOFFSETFROM:+0200
TZOFFSETTO:+0100
TZNAME:CET
DTSTART:20251026T010000
END:STANDARD
END:VTIMEZONE
BEGIN:VEVENT
DTSTART;TZID=Europe/Berlin:20240427T100000
DTEND;TZID=Europe/Berlin:20240427T180000
DTSTAMP:20260420T064334
CREATED:20240325T225349Z
LAST-MODIFIED:20240423T230834Z
UID:47-1714212000-1714240800@muenchentamilsangam.org
SUMMARY:சித்திரைத் திருவிழா 2024
DESCRIPTION:Chithirai Thiruvizha 2024\nFLASH SALE!\nGet 50% OFF or a FREE ticket. See below for details. \nCelebrate Tamil New Year together with MTS!\nCelebrating Tamil New Year\, or Puthandu\, is a deeply cherished tradition among Tamil communities around the world\, marking the first day of the Tamil calendar month Chithirai. The festival\, also known as Varusha Pirappu\, is a time of joy\, renewal\, and festivity\, reflecting the rich cultural heritage of Tamil Nadu and Tamil-speaking populations globally.\n\nJoin us for a vibrant celebration of Tamil culture at Chithirai Thiruvizha\, where we’ll mark the Tamil New Year with a spectacular array of cultural events in a traditional folk them. \nVazhai Ilai Virunthu\nThe Vazhai Ilai Virunthu\, or feast served on banana leaves\, is another quintessential element of Tamil New Year celebrations. Kindly choose the appropriate slots for dining while booking the tickets. \nPlease note that this is an indicative slot and there might be changes based on logistic considerations. In case of such changes\, we ask for your understanding! \n\n\n \nGroup Tickets – Flash Sale!!!\nOffer Details\nOffer 1:  Book 5 Tickets and get 50% OFF for 1 Ticket (i.e.\, 50% Off on the 6th Ticket)\nOffer 2: Book 10 Tickets and get 1 Ticket free (i.e.\, 11th Ticket is free) \nHow to Avail\nStep 1: Complete your group ticket booking.\nStep 2: Send us an email at muenchentamilsangam@gmail.com with your order ID.\nStep 3: Include the name (first and last name) and email ID of the individual to whom the offer should be applied.\nStep 4: In case of Offer 1\, we will send you the order  link to book the 50% non-member adult ticket at € 14.00. In case of Offer 2\, we will directly send you the free ticket to the email ID provided. \nTerms & Conditions\n-This offer is valid only for purchases made during the flash sale period. The sale ends on April 25th at 12:00 noon.\n-The additional ticket at a discounted rate at 50%  or the free is applicable to Non-Member Adult tickets only.\n-The offer is subject to availability and may change or end without notice. \nIt’s a time to come together\, share the joy\, and look forward to the new beginnings that ‘Puthandu’ symbolizes. Don’t miss this opportunity to experience the warmth and vibrancy of Tamil culture at Chithirai Thiruvizha. Book your tickets now and join us for a memorable celebration!
URL:https://muenchentamilsangam.org/event/%e0%ae%9a%e0%ae%bf%e0%ae%a4%e0%af%8d%e0%ae%a4%e0%ae%bf%e0%ae%b0%e0%af%88%e0%ae%a4%e0%af%8d-%e0%ae%a4%e0%ae%bf%e0%ae%b0%e0%af%81%e0%ae%b5%e0%ae%bf%e0%ae%b4%e0%ae%be-2024/
LOCATION:Bürgerhaus – Großer Saal\, Bürgerplatz 9\, Garching\, Bavaria\, 85748\, Germany
CATEGORIES:Events
ATTACH;FMTTYPE=image/jpeg:https://muenchentamilsangam.org/wp-content/uploads/2024/03/template-background.jpg
ORGANIZER;CN="M%C3%BCnchen Tamil Sangam e.V.":MAILTO:muenchentamilsangam@gmail.com
END:VEVENT
END:VCALENDAR